BEGIN:VCALENDAR
VERSION:2.0
PRODID:-//eventon.com NONSGML v1.0//EN
CALSCALE:GREGORIAN
METHOD:PUBLISH
BEGIN:VEVENT
UID:69e925c681a93
DTSTAMP:20260422T194718Z
DTSTART:20260612
DTEND:20260613
LOCATION:
SUMMARY:Hit Hip Pop Classic Parade
DESCRIPTION:Horaires à préciser\nhttps://www.david-rolland.com/events/hit
 -hip-pop-classic-parade-3/
URL:https://www.david-rolland.com/events/hit-hip-pop-classic-parade-3/
END:VEVENT
END:VCALENDAR