BEGIN:VCALENDAR
VERSION:2.0
PRODID:-//eventon.com NONSGML v1.0//EN
CALSCALE:GREGORIAN
METHOD:PUBLISH
BEGIN:VEVENT
UID:69e4ec1a4bd35
DTSTAMP:20260419T145210Z
DTSTART:20260708
DTEND:20260709
LOCATION:
SUMMARY:Donne-moi la main (Happy Manif)
DESCRIPTION:Représentations à 10h30 et 14h30 Click Here\nhttps://www.davi
 d-rolland.com/events/donne-moi-la-main-happy-manif/
URL:https://www.david-rolland.com/events/donne-moi-la-main-happy-manif/
END:VEVENT
END:VCALENDAR